BEGIN:VCALENDAR
VERSION:2.0
PRODID:-//Eventin//Event Calendar//EN
CALSCALE:GREGORIAN
METHOD:PUBLISH
BEGIN:VEVENT
UID:2777076b5c96a6269a5aa82f88eb2918@jointherun.uk
SUMMARY:Lymm Festival Trail Race
DESCRIPTION:The Lymm Festival Trail Races are a brilliant community-led run
 ning event\, combining off-road racing with a relaxed\, family-friendly fes
 tival atmosphere.\nSet in the scenic surroundings of Lymm\, the event takes
  place across the beautiful grounds of Lymm High School and the surrounding
  woodland trails\, including Helsdale Wood and Spud Wood. Whether you're a 
 seasoned trail runner or just getting started\, there’s something for eve
 ryone across a range of distances.\nWith a mix of racing\, fancy dress\, an
 d community spirit\, it’s more than just a run—it’s a great summer mo
 rning out for runners\, families\, and spectators alike.\nEvent Details\n\n
 Date: Sunday 21st June 2026\nLocation: Lymm High School\, Cheshire\nEvent T
 ype: Trail Race\n\nDistances\n\nAdult Race: 5 miles (16+)\nJunior Race: 2 m
 iles (ages 10–16)\nFun Run: 1 mile (ages 4–15)\n\nStart Times\n\nFun Ru
 n: 10:30am\nAdult Race: 11:15am\n\nWhat to Expect\n\nFully off-road routes 
 through woodland trails and school grounds\nFriendly\, inclusive atmosphere
  for all abilities\nFamily-focused event as part of the wider Lymm Festival
 \nFancy dress encouraged in the Fun Run (with prizes!)\nFinisher medals for
  Fun Run participants\nClearly marked courses with supportive marshals\nFre
 e event photography available after the race\n\nCharity & Community\nThe ev
 ent is organised by Lymm Runners and plays a key role in the local festival
 . Proceeds from the Fun Run go to the Woodland Trust\, supporting the prese
 rvation of local natural spaces including Spud Wood.\nEntry\n\nAdvance onli
 ne entry available\nRace numbers collected on the day\nUKA-affiliated runne
 rs receive a small discount\nLimited capacity—early entry recommended\n\n
 Why Take Part?\nIf you’re looking for a relaxed\, welcoming trail race wi
 th a strong community feel\, the Lymm Festival Trail Races are a perfect ch
 oice. From competitive runners to families and fancy dress fun runners\, it
 ’s an event that captures everything great about local running.
LOCATION:Lymm\, UK
DTSTAMP:20260419T115510Z
DTSTART:20260621T093000Z
DTEND:20260621T160000Z
END:VEVENT
END:VCALENDAR
