BEGIN:VCALENDAR
VERSION:2.0
PRODID:-//Eventin//Event Calendar//EN
CALSCALE:GREGORIAN
METHOD:PUBLISH
BEGIN:VEVENT
UID:b9b375e1f762ee66fd227d446e27a7b9@jointherun.uk
SUMMARY:Shinfield 10k & Junior Cross Country Races
DESCRIPTION:The Shinfield 10K is a long-standing and much-loved road race o
 rganised by the local running community\, delivering a friendly\, well-supp
 orted event with a great atmosphere for runners of all abilities.\nTaking p
 lace on closed roads around Shinfield\, this flat and fast 10K is ideal for
  both first-time runners and those chasing a new PB. With enthusiastic mars
 hals and strong local support throughout the route\, it’s a race that con
 sistently receives excellent feedback from participants.\nThe event is part
  of a wider race day experience\, with junior cross country races following
  the main 10K—making it a fantastic family-friendly event.\nEvent Details
 \n\nDate: Monday 4th May 2026\nStart Time: 9:30am\nDistance: 10K\nLocation:
  Shinfield\, Reading\nEvent Type: Road Race\n\nWhat to Expect\n\nChip-timed
  results with SMS notifications\nFinisher medals for all participants\nAge 
 category prizes (including veteran categories up to 80+)\nPrizes for local 
 runners\nFriendly\, supportive marshals and atmosphere\nBag storage and toi
 let facilities\nFree parking available nearby (charity donation encouraged)
 \n\nJunior Races\nThe day also includes a series of junior cross country ra
 ces\, giving younger runners the chance to get involved in a fun and suppor
 tive environment.\nEntry\n\nAdvance entry available online\nLimited on-the-
 day entries (subject to availability)\nDiscounts for UKA-affiliated runners
 \nAll proceeds support local charities\, with over £135\,000 raised since 
 the event began\n\nWhy Take Part?\nWhether you're aiming for a personal bes
 t or simply looking for a well-organised\, community-driven race\, the Shin
 field 10K offers a welcoming atmosphere and a great day out for runners and
  spectators alike.
LOCATION:Shinfield\, Reading\, UK
DTSTAMP:20260419T132916Z
DTSTART:20260504T083000Z
DTEND:20260504T160000Z
END:VEVENT
END:VCALENDAR
