BEGIN:VCALENDAR
VERSION:2.0
PRODID:-//Eventin//Event Calendar//EN
CALSCALE:GREGORIAN
METHOD:PUBLISH
BEGIN:VEVENT
UID:8cb0442b041cac65fe7dd464fb616053@jointherun.uk
SUMMARY:Community RunFest
DESCRIPTION:A welcoming family-friendly running festival in Rayleigh\, Esse
 x\, the Community RunFest brings together runners of all ages and abilities
  to celebrate health\, wellbeing and community spirit. With dedicated races
  for children and adults\, the event focuses on participation\, connection 
 and creating a positive\, inclusive atmosphere for everyone involved.\nKey 
 Details\nEvent NameCommunity RunFest\nEvent TypeRoad Race\nDistance(s)\n\n2
 .5K Run (Children aged 4–11)\n5K Youth Run (Ages 11–16)\n5K & 10K (Adul
 ts)\n\nEvent DateSunday\, 12 July 2026\nEvent Start Time09:00 AM\nIs This a
  Recurring Event?One-off Event (e.g. a race)\nLocation\nLocation NameKing G
 eorge’s Park\, Rayleigh\nPostcodeSS6 8JD\nRegionRayleigh\, Essex\nEvent D
 escription\nCommunity RunFest is a celebration of movement\, connection and
  community spirit\, designed to bring together runners\, families and suppo
 rters in the heart of Rayleigh. The event goes beyond racing\, creating a s
 pace where people can come together to enjoy fitness\, support one another 
 and engage with local wellbeing initiatives.\nWith a range of distances tai
 lored to different age groups\, the event encourages children\, young peopl
 e and adults to get involved\, whether they’re taking their first steps i
 nto running or enjoying a social race experience.\nAt its core\, the festiv
 al highlights the importance of health\, wellbeing and community connection
 \, shining a light on local services and encouraging positive habits that e
 xtend beyond race day. It’s an opportunity for residents\, families and l
 ocal businesses to come together\, celebrate their town and be part of some
 thing meaningful.\nWhat’s Included\n\nFamily-friendly race atmosphere\nCl
 early marked and supported routes\nRaces tailored to different age groups a
 nd abilities\nStrong community and local engagement focus\nOpportunity to c
 onnect with local wellbeing initiatives\n\nAdditional Information\n\nSuitab
 le for all abilities — from first-time runners to regular participants\nI
 nclusive event format encouraging families and young runners\nFocus on heal
 th\, wellbeing and community engagement\nDesigned to create a fun\, support
 ive and memorable event experience
LOCATION:Rayleigh\, UK
DTSTAMP:20260419T131647Z
DTSTART:20260712T080000Z
DTEND:20260712T160000Z
END:VEVENT
END:VCALENDAR
